BEGIN:VCALENDAR
VERSION:2.0
PRODID:-//South Broward Alumnae Chapter of Delta Sigma Theta Sorority, Inc. - ECPv6.6.3//NONSGML v1.0//EN
CALSCALE:GREGORIAN
METHOD:PUBLISH
X-ORIGINAL-URL:https://dstsouthbroward.org
X-WR-CALDESC:Events for South Broward Alumnae Chapter of Delta Sigma Theta Sorority, Inc.
REFRESH-INTERVAL;VALUE=DURATION:PT1H
X-Robots-Tag:noindex
X-PUBLISHED-TTL:PT1H
BEGIN:VTIMEZONE
TZID:America/New_York
BEGIN:DAYLIGHT
TZOFFSETFROM:-0500
TZOFFSETTO:-0400
TZNAME:EDT
DTSTART:20260308T070000
END:DAYLIGHT
BEGIN:STANDARD
TZOFFSETFROM:-0400
TZOFFSETTO:-0500
TZNAME:EST
DTSTART:20261101T060000
END:STANDARD
END:VTIMEZONE
BEGIN:VEVENT
DTSTART;TZID=America/New_York:20260509T110000
DTEND;TZID=America/New_York:20260509T140000
DTSTAMP:20260420T151117
CREATED:20260420T141009Z
LAST-MODIFIED:20260420T142544Z
UID:15625-1778324400-1778335200@dstsouthbroward.org
SUMMARY:May Week 2026: Sisters in Control: A Journey Through Reproductive Health
DESCRIPTION:This empowering session creates a safe and supportive space for open conversations about women’s health. Focused on the unique experiences of Black women\, the event will dive deeper into topics such as reproductive wellness\, life stages\, and health disparities. Attendees will gain valuable insights\, access helpful resources\, and leave feeling more informed\, supported\, and confident in advocating for their health and well-being. \n \nREGISTER TODAY
URL:https://dstsouthbroward.org/event/may-week-2026-sisters-in-control-a-journey-through-reproductive-health/
LOCATION:South Regional/Broward College of Library (Multipurpose Room)\, Pembroke Pines\, FLORIDA\, FL\, 33026\, United States
END:VEVENT
END:VCALENDAR